BEGIN:VCALENDAR
VERSION:2.0
PRODID:-//frauenchor-herschberg//frauenchor-herschberg.de//DE
CALSCALE:GREGORIAN
BEGIN:VEVENT
DTSTART:20260603T190000
DTEND:20260603T000000
LOCATION:
DTSTAMP:20260424T120303
SUMMARY:Outdoor-Singstunde
URL;VALUE=URI:https://frauenchor-herschberg.de
DESCRIPTION:
UID:20260424T120303-20260603T190000-20260603T000000
END:VEVENT
END:VCALENDAR